BEGIN:VCALENDAR
VERSION:2.0
PRODID:-//Fondation Advanced Alliances Academy (aaa) - ECPv6.15.20//NONSGML v1.0//EN
CALSCALE:GREGORIAN
METHOD:PUBLISH
X-ORIGINAL-URL:https://fondation-aaa.org
X-WR-CALDESC:Évènements pour Fondation Advanced Alliances Academy (aaa)
REFRESH-INTERVAL;VALUE=DURATION:PT1H
X-Robots-Tag:noindex
X-PUBLISHED-TTL:PT1H
BEGIN:VTIMEZONE
TZID:Europe/Zurich
BEGIN:DAYLIGHT
TZOFFSETFROM:+0100
TZOFFSETTO:+0200
TZNAME:CEST
DTSTART:20240331T010000
END:DAYLIGHT
BEGIN:STANDARD
TZOFFSETFROM:+0200
TZOFFSETTO:+0100
TZNAME:CET
DTSTART:20241027T010000
END:STANDARD
BEGIN:DAYLIGHT
TZOFFSETFROM:+0100
TZOFFSETTO:+0200
TZNAME:CEST
DTSTART:20250330T010000
END:DAYLIGHT
BEGIN:STANDARD
TZOFFSETFROM:+0200
TZOFFSETTO:+0100
TZNAME:CET
DTSTART:20251026T010000
END:STANDARD
BEGIN:DAYLIGHT
TZOFFSETFROM:+0100
TZOFFSETTO:+0200
TZNAME:CEST
DTSTART:20260329T010000
END:DAYLIGHT
BEGIN:STANDARD
TZOFFSETFROM:+0200
TZOFFSETTO:+0100
TZNAME:CET
DTSTART:20261025T010000
END:STANDARD
END:VTIMEZONE
BEGIN:VEVENT
DTSTART;TZID=Europe/Zurich:20251007T160000
DTEND;TZID=Europe/Zurich:20251007T200000
DTSTAMP:20260423T153905
CREATED:20250610T073312Z
LAST-MODIFIED:20250904T090338Z
UID:5883-1759852800-1759867200@fondation-aaa.org
SUMMARY:"La dynamique InterGénérationnelle en entreprise\, on en parle?"
DESCRIPTION:[et_pb_section fb_built= »1″ _builder_version= »4.22.2″ _module_preset= »default » da_disable_devices= »off|off|off » global_colors_info= »{} » da_is_popup= »off » da_exit_intent= »off » da_has_close= »on » da_alt_close= »off » da_dark_close= »off » da_not_modal= »on » da_is_singular= »off » da_with_loader= »off » da_has_shadow= »on »][et_pb_row _builder_version= »4.22.2″ _module_preset= »default » global_colors_info= »{} »][et_pb_column type= »4_4″ _builder_version= »4.22.2″ _module_preset= »default » global_colors_info= »{} »][et_pb_button button_url= »https://fondation-aaa.org/billetterie/ » button_text= »Je m’inscris ! » button_alignment= »center » _builder_version= »4.22.2″ _module_preset= »default » custom_button= »on » button_text_size= »34px » button_text_color= »#000000″ button_bg_color= »#EDF000″ button_border_width= »10px » button_border_color= »#E09900″ global_colors_info= »{} »][/et_pb_button][et_pb_image src= »https://fondation-aaa.org/wp-content/uploads/Programme-site-8-pdf.jpg » title_text= »Programme site » _builder_version= »4.22.2″ _module_preset= »default » hover_enabled= »0″ global_colors_info= »{} » sticky_enabled= »0″][/et_pb_image][/et_pb_column][/et_pb_row][/et_pb_section]
URL:https://fondation-aaa.org/evenements/la-dynamique-intergenerationnelle-en-entreprise-on-en-parle/
LOCATION:Retraites Populaires\, Rue Caroline 9\, 1003\, Lausanne\, 1003\, Switzerland
ATTACH;FMTTYPE=application/pdf:https://fondation-aaa.org/wp-content/uploads/Flyer_Symposium_web.pdf
END:VEVENT
END:VCALENDAR