BEGIN:VCALENDAR
VERSION:2.0
PRODID:-//Fondation Advanced Alliances Academy (aaa) - ECPv6.15.20//NONSGML v1.0//EN
CALSCALE:GREGORIAN
METHOD:PUBLISH
X-WR-CALNAME:Fondation Advanced Alliances Academy (aaa)
X-ORIGINAL-URL:https://fondation-aaa.org
X-WR-CALDESC:Évènements pour Fondation Advanced Alliances Academy (aaa)
REFRESH-INTERVAL;VALUE=DURATION:PT1H
X-Robots-Tag:noindex
X-PUBLISHED-TTL:PT1H
BEGIN:VTIMEZONE
TZID:Europe/Zurich
BEGIN:DAYLIGHT
TZOFFSETFROM:+0100
TZOFFSETTO:+0200
TZNAME:CEST
DTSTART:20230326T010000
END:DAYLIGHT
BEGIN:STANDARD
TZOFFSETFROM:+0200
TZOFFSETTO:+0100
TZNAME:CET
DTSTART:20231029T010000
END:STANDARD
BEGIN:DAYLIGHT
TZOFFSETFROM:+0100
TZOFFSETTO:+0200
TZNAME:CEST
DTSTART:20240331T010000
END:DAYLIGHT
BEGIN:STANDARD
TZOFFSETFROM:+0200
TZOFFSETTO:+0100
TZNAME:CET
DTSTART:20241027T010000
END:STANDARD
BEGIN:DAYLIGHT
TZOFFSETFROM:+0100
TZOFFSETTO:+0200
TZNAME:CEST
DTSTART:20250330T010000
END:DAYLIGHT
BEGIN:STANDARD
TZOFFSETFROM:+0200
TZOFFSETTO:+0100
TZNAME:CET
DTSTART:20251026T010000
END:STANDARD
END:VTIMEZONE
BEGIN:VEVENT
DTSTART;TZID=Europe/Zurich:20240416T081500
DTEND;TZID=Europe/Zurich:20240416T213000
DTSTAMP:20260422T122734
CREATED:20240229T092634Z
LAST-MODIFIED:20240229T105032Z
UID:5615-1713255300-1713303000@fondation-aaa.org
SUMMARY:Vitamine a - Jouer pour innover : les Lego au service de l'interG
DESCRIPTION:[et_pb_section fb_built= »1″ _builder_version= »4.22.2″ _module_preset= »default » da_disable_devices= »off|off|off » global_colors_info= »{} » da_is_popup= »off » da_exit_intent= »off » da_has_close= »on » da_alt_close= »off » da_dark_close= »off » da_not_modal= »on » da_is_singular= »off » da_with_loader= »off » da_has_shadow= »on »][et_pb_row _builder_version= »4.22.2″ _module_preset= »default » global_colors_info= »{} »][et_pb_column type= »4_4″ _builder_version= »4.22.2″ _module_preset= »default » global_colors_info= »{} »][et_pb_image src= »https://fondation-aaa.org/wp-content/uploads/Flyer-petit-dej-Avril-2024-1.png » title_text= »Flyer petit-dej Avril 2024 (1) » _builder_version= »4.22.2″ _module_preset= »default » global_colors_info= »{} »][/et_pb_image][/et_pb_column][/et_pb_row][et_pb_row _builder_version= »4.22.2″ _module_preset= »default » global_colors_info= »{} »][et_pb_column type= »4_4″ _builder_version= »4.22.2″ _module_preset= »default » global_colors_info= »{} »][et_pb_text _builder_version= »4.22.2″ _module_preset= »default » hover_enabled= »0″ global_colors_info= »{} » admin_label= »Texte » sticky_enabled= »0″] \nPrix : 15.- Frs\nInscription via la billetterie de la Fondation (pas de paiement sur place)\nDate limite d’inscription : 12  avril 2024 (attention\, le nombre de places est limité)\nNous nous retrouvons chez Regus\, l’espace de Coworking en face de la gare de Lausanne. \n[/et_pb_text][et_pb_button button_url= »/billetterie » button_text= »Je m’inscris ! » button_alignment= »center » _builder_version= »4.22.2″ _module_preset= »default » custom_button= »on » button_text_size= »25px » button_text_color= »#000000″ button_bg_color= »#0C71C3″ button_border_color= »#FFFFFF » button_border_radius= »57px » button_letter_spacing= »2px » button_font= »|300||||||| » button_icon= »I||divi||400″ global_colors_info= »{} »][/et_pb_button][/et_pb_column][/et_pb_row][/et_pb_section]
URL:https://fondation-aaa.org/evenements/vitamine-a-jouer-pour-innover-les-lego-au-service-de-linterg/
END:VEVENT
END:VCALENDAR