BEGIN:VCALENDAR
VERSION:2.0
PRODID:-//Fondation Advanced Alliances Academy (aaa) - ECPv6.15.20//NONSGML v1.0//EN
CALSCALE:GREGORIAN
METHOD:PUBLISH
X-ORIGINAL-URL:https://fondation-aaa.org
X-WR-CALDESC:Évènements pour Fondation Advanced Alliances Academy (aaa)
REFRESH-INTERVAL;VALUE=DURATION:PT1H
X-Robots-Tag:noindex
X-PUBLISHED-TTL:PT1H
BEGIN:VTIMEZONE
TZID:Europe/Zurich
BEGIN:DAYLIGHT
TZOFFSETFROM:+0100
TZOFFSETTO:+0200
TZNAME:CEST
DTSTART:20230326T010000
END:DAYLIGHT
BEGIN:STANDARD
TZOFFSETFROM:+0200
TZOFFSETTO:+0100
TZNAME:CET
DTSTART:20231029T010000
END:STANDARD
BEGIN:DAYLIGHT
TZOFFSETFROM:+0100
TZOFFSETTO:+0200
TZNAME:CEST
DTSTART:20240331T010000
END:DAYLIGHT
BEGIN:STANDARD
TZOFFSETFROM:+0200
TZOFFSETTO:+0100
TZNAME:CET
DTSTART:20241027T010000
END:STANDARD
BEGIN:DAYLIGHT
TZOFFSETFROM:+0100
TZOFFSETTO:+0200
TZNAME:CEST
DTSTART:20250330T010000
END:DAYLIGHT
BEGIN:STANDARD
TZOFFSETFROM:+0200
TZOFFSETTO:+0100
TZNAME:CET
DTSTART:20251026T010000
END:STANDARD
END:VTIMEZONE
BEGIN:VEVENT
DTSTART;TZID=Europe/Zurich:20240201T081500
DTEND;TZID=Europe/Zurich:20240201T093000
DTSTAMP:20260420T164523
CREATED:20240112T221806Z
LAST-MODIFIED:20240115T105210Z
UID:5588-1706775300-1706779800@fondation-aaa.org
SUMMARY:Quel leader intergénérationnel êtes-vous?
DESCRIPTION:[et_pb_section fb_built= »1″ _builder_version= »4.22.2″ _module_preset= »default » da_disable_devices= »off|off|off » global_colors_info= »{} » da_is_popup= »off » da_exit_intent= »off » da_has_close= »on » da_alt_close= »off » da_dark_close= »off » da_not_modal= »on » da_is_singular= »off » da_with_loader= »off » da_has_shadow= »on »][et_pb_row _builder_version= »4.22.2″ _module_preset= »default » global_colors_info= »{} »][et_pb_column type= »4_4″ _builder_version= »4.22.2″ _module_preset= »default » global_colors_info= »{} »][et_pb_text admin_label= »Texte » _builder_version= »4.22.2″ _module_preset= »default » global_colors_info= »{} »] \nPrix : 15.- Frs\nInscription via la billetterie de la Fondation (pas de paiement sur place)\nDate limite d’inscription : 29  janvier 2024 (attention\, le nombre de places est limité)\nNous nous retrouvons chez Regus\, l’espace de Coworking en face de la gare de Lausanne. \n[/et_pb_text][et_pb_button button_url= »https://fondation-aaa.org/billetterie/ » button_text= »Je m’inscris ! » button_alignment= »center » _builder_version= »4.22.2″ _module_preset= »default » custom_button= »on » button_text_size= »24px » button_text_color= »#000000″ button_icon= »||fa||900″ hover_enabled= »0″ global_colors_info= »{} » sticky_enabled= »0″][/et_pb_button][/et_pb_column][/et_pb_row][/et_pb_section]
URL:https://fondation-aaa.org/evenements/quel-leader-intergenerationnel-etes-vous/
LOCATION:Regus Mainstation\, Place de la Gare 12\, Lausanne\, Vaud\, 1003\, Suisse
ATTACH;FMTTYPE=image/png:https://fondation-aaa.org/wp-content/uploads/Ptitdej1erfev-def.png
END:VEVENT
BEGIN:VEVENT
DTSTART;TZID=Europe/Zurich:20240229T133000
DTEND;TZID=Europe/Zurich:20240229T170000
DTSTAMP:20260420T164523
CREATED:20240219T082829Z
LAST-MODIFIED:20240219T092652Z
UID:5607-1709213400-1709226000@fondation-aaa.org
SUMMARY:Hackathon InterG
DESCRIPTION:[et_pb_section fb_built= »1″ theme_builder_area= »post_content » _builder_version= »4.22.2″ _module_preset= »default » da_is_popup= »off » da_exit_intent= »off » da_has_close= »on » da_alt_close= »off » da_dark_close= »off » da_not_modal= »on » da_is_singular= »off » da_with_loader= »off » da_has_shadow= »on » da_disable_devices= »off|off|off »][/et_pb_section]
URL:https://fondation-aaa.org/evenements/hackathon-interg/
LOCATION:swisscom\, avenue des Bergières 42\, Lausanne\, 1004\, Suisse
ATTACH;FMTTYPE=image/png:https://fondation-aaa.org/wp-content/uploads/Hackathon_InterG_Swisscom_VF2.png
END:VEVENT
END:VCALENDAR