BEGIN:VCALENDAR
VERSION:2.0
PRODID:-//Fondation Advanced Alliances Academy (aaa) - ECPv6.15.20//NONSGML v1.0//EN
CALSCALE:GREGORIAN
METHOD:PUBLISH
X-ORIGINAL-URL:https://fondation-aaa.org
X-WR-CALDESC:Évènements pour Fondation Advanced Alliances Academy (aaa)
REFRESH-INTERVAL;VALUE=DURATION:PT1H
X-Robots-Tag:noindex
X-PUBLISHED-TTL:PT1H
BEGIN:VTIMEZONE
TZID:Europe/Zurich
BEGIN:DAYLIGHT
TZOFFSETFROM:+0100
TZOFFSETTO:+0200
TZNAME:CEST
DTSTART:20220327T010000
END:DAYLIGHT
BEGIN:STANDARD
TZOFFSETFROM:+0200
TZOFFSETTO:+0100
TZNAME:CET
DTSTART:20221030T010000
END:STANDARD
BEGIN:DAYLIGHT
TZOFFSETFROM:+0100
TZOFFSETTO:+0200
TZNAME:CEST
DTSTART:20230326T010000
END:DAYLIGHT
BEGIN:STANDARD
TZOFFSETFROM:+0200
TZOFFSETTO:+0100
TZNAME:CET
DTSTART:20231029T010000
END:STANDARD
BEGIN:DAYLIGHT
TZOFFSETFROM:+0100
TZOFFSETTO:+0200
TZNAME:CEST
DTSTART:20240331T010000
END:DAYLIGHT
BEGIN:STANDARD
TZOFFSETFROM:+0200
TZOFFSETTO:+0100
TZNAME:CET
DTSTART:20241027T010000
END:STANDARD
END:VTIMEZONE
BEGIN:VEVENT
DTSTART;TZID=Europe/Zurich:20230504T080000
DTEND;TZID=Europe/Zurich:20230504T140000
DTSTAMP:20260422T105245
CREATED:20230206T163242Z
LAST-MODIFIED:20230313T094425Z
UID:5385-1683187200-1683208800@fondation-aaa.org
SUMMARY:L'entreprise à l'heure de la Grande Transmission
DESCRIPTION:[et_pb_section fb_built= »1″ _builder_version= »4.19.1″ _module_preset= »default » da_disable_devices= »off|off|off » global_colors_info= »{} » da_is_popup= »off » da_exit_intent= »off » da_has_close= »on » da_alt_close= »off » da_dark_close= »off » da_not_modal= »on » da_is_singular= »off » da_with_loader= »off » da_has_shadow= »on »][et_pb_row _builder_version= »4.19.1″ _module_preset= »default » global_colors_info= »{} »][et_pb_column type= »4_4″ _builder_version= »4.19.1″ _module_preset= »default » global_colors_info= »{} »][et_pb_button button_url= »https://fondation-aaa.org/billetterie/ » button_text= »Je m’inscris ! » button_alignment= »center » _builder_version= »4.19.1″ _module_preset= »default » custom_button= »on » button_text_size= »25px » button_text_color= »#000000″ button_bg_color= »#FFFFFF » button_border_color= »#000000″ button_icon= »$||divi||400″ button_icon_color= »#000000″ global_colors_info= »{} »][/et_pb_button][/et_pb_column][/et_pb_row][et_pb_row _builder_version= »4.19.1″ _module_preset= »default » global_colors_info= »{} »][et_pb_column type= »4_4″ _builder_version= »4.19.1″ _module_preset= »default » global_colors_info= »{} »][et_pb_image src= »https://fondation-aaa.org/wp-content/uploads/presentation-programme_V4.png » title_text= »presentation programme_V4″ url= »https://fondation-aaa.org/billetterie/ » _builder_version= »4.20.0″ _module_preset= »default » hover_enabled= »0″ global_colors_info= »{} » sticky_enabled= »0″][/et_pb_image][/et_pb_column][/et_pb_row][/et_pb_section][et_pb_section fb_built= »1″ _builder_version= »4.19.1″ _module_preset= »default » da_disable_devices= »off|off|off » global_colors_info= »{} » da_is_popup= »off » da_exit_intent= »off » da_has_close= »on » da_alt_close= »off » da_dark_close= »off » da_not_modal= »on » da_is_singular= »off » da_with_loader= »off » da_has_shadow= »on »][et_pb_row _builder_version= »4.19.1″ _module_preset= »default » global_colors_info= »{} »][et_pb_column type= »4_4″ _builder_version= »4.19.1″ _module_preset= »default » global_colors_info= »{} »][et_pb_text _builder_version= »4.19.1″ _module_preset= »default » global_colors_info= »{} »] \nCe symposium s’adresse à toutes les personnes en position d’influence ou de responsabilités (patron\, manager d’équipe…) confrontées aux enjeux/défis de faire travailler ensemble plusieurs générations (notamment à l’aune de l’arrivée sur le marché du travail de la génération Z ) au sein de leur entreprise et de leur proposer\, par le biais de témoignages\, des solutions concrètes de pratiques collaboratives intergénérationnelles win-win (ex:reverse mentoring) pour rendre leur organisation plus efficace et innovante. \nInscriptions via la billetterie de la Fondation aaa (le nombre de participants est limité). Préférer les navigateurs Chrome ou Firefox pour ouvrir le lien de la billetterie. \nDate limite d’inscription : 26 Avril 2023 \n[/et_pb_text][et_pb_button button_url= »https://fondation-aaa.org/billetterie/ » button_text= »Je m’inscris ! » button_alignment= »center » _builder_version= »4.19.1″ _module_preset= »default » custom_button= »on » button_text_size= »25px » button_text_color= »#000000″ button_bg_color= »#FFFFFF » button_border_color= »#000000″ button_icon= »$||divi||400″ button_icon_color= »#000000″ global_colors_info= »{} »][/et_pb_button][/et_pb_column][/et_pb_row][/et_pb_section]
URL:https://fondation-aaa.org/evenements/lentreprise-a-lheure-de-la-grande-transmission/
LOCATION:Centre patronal\, route du Lac 2\, Paudex\, 1094\, Suisse
ATTACH;FMTTYPE=image/jpeg:https://fondation-aaa.org/wp-content/uploads/Flyer_Symposium_2023-VF.jpg
END:VEVENT
END:VCALENDAR